BEGIN:VCALENDAR
VERSION:2.0
PRODID:-//CollegeSource - ECPv6.15.20//NONSGML v1.0//EN
CALSCALE:GREGORIAN
METHOD:PUBLISH
X-WR-CALNAME:CollegeSource
X-ORIGINAL-URL:https://collegesource.com
X-WR-CALDESC:Events for CollegeSource
REFRESH-INTERVAL;VALUE=DURATION:PT1H
X-Robots-Tag:noindex
X-PUBLISHED-TTL:PT1H
BEGIN:VTIMEZONE
TZID:America/New_York
BEGIN:DAYLIGHT
TZOFFSETFROM:-0500
TZOFFSETTO:-0400
TZNAME:EDT
DTSTART:20250309T070000
END:DAYLIGHT
BEGIN:STANDARD
TZOFFSETFROM:-0400
TZOFFSETTO:-0500
TZNAME:EST
DTSTART:20251102T060000
END:STANDARD
BEGIN:DAYLIGHT
TZOFFSETFROM:-0500
TZOFFSETTO:-0400
TZNAME:EDT
DTSTART:20260308T070000
END:DAYLIGHT
BEGIN:STANDARD
TZOFFSETFROM:-0400
TZOFFSETTO:-0500
TZNAME:EST
DTSTART:20261101T060000
END:STANDARD
BEGIN:DAYLIGHT
TZOFFSETFROM:-0500
TZOFFSETTO:-0400
TZNAME:EDT
DTSTART:20270314T070000
END:DAYLIGHT
BEGIN:STANDARD
TZOFFSETFROM:-0400
TZOFFSETTO:-0500
TZNAME:EST
DTSTART:20271107T060000
END:STANDARD
END:VTIMEZONE
BEGIN:VEVENT
DTSTART;VALUE=DATE:20260518
DTEND;VALUE=DATE:20260520
DTSTAMP:20260421T073739
CREATED:20251208T193849Z
LAST-MODIFIED:20260220T180017Z
UID:10000844-1779062400-1779235199@collegesource.com
SUMMARY:Virtual TES Basic Certification Course
DESCRIPTION:For details and registration for the Virtual TES Basic Certification Course\, please select the button below. \n			\n				Learn more and register
URL:https://collegesource.com/event/virtual-tes-basic-certification-may-18-2026/
LOCATION:Online
CATEGORIES:Training courses,Virtual TES Basic
ATTACH;FMTTYPE=image/jpeg:https://collegesource.com/wp-content/uploads/2022/12/TES-Basic-Virtual-Certification.jpg
END:VEVENT
BEGIN:VEVENT
DTSTART;TZID=America/New_York:20260519T130000
DTEND;TZID=America/New_York:20260519T140000
DTSTAMP:20260421T073739
CREATED:20260313T165924Z
LAST-MODIFIED:20260313T170108Z
UID:10000944-1779195600-1779199200@collegesource.com
SUMMARY:Let's Talk Transfer: Community Discussion Series
DESCRIPTION:For event details and registration\, click the button below.\n			\n				Learn more and register
URL:https://collegesource.com/event/lets-talk-transfer-community-discussion-series-may-19-2026/
LOCATION:Online
CATEGORIES:Community chats,Let’s Talk Transfer
ATTACH;FMTTYPE=image/png:https://collegesource.com/wp-content/uploads/2024/02/FB_talk-shop-at-new-transfer-community-discussion-series.png
END:VEVENT
END:VCALENDAR