BEGIN:VCALENDAR
VERSION:2.0
PRODID:-//CollegeSource - ECPv6.15.20//NONSGML v1.0//EN
CALSCALE:GREGORIAN
METHOD:PUBLISH
X-WR-CALNAME:CollegeSource
X-ORIGINAL-URL:https://collegesource.com
X-WR-CALDESC:Events for CollegeSource
REFRESH-INTERVAL;VALUE=DURATION:PT1H
X-Robots-Tag:noindex
X-PUBLISHED-TTL:PT1H
BEGIN:VTIMEZONE
TZID:America/Los_Angeles
BEGIN:DAYLIGHT
TZOFFSETFROM:-0800
TZOFFSETTO:-0700
TZNAME:PDT
DTSTART:20250309T100000
END:DAYLIGHT
BEGIN:STANDARD
TZOFFSETFROM:-0700
TZOFFSETTO:-0800
TZNAME:PST
DTSTART:20251102T090000
END:STANDARD
BEGIN:DAYLIGHT
TZOFFSETFROM:-0800
TZOFFSETTO:-0700
TZNAME:PDT
DTSTART:20260308T100000
END:DAYLIGHT
BEGIN:STANDARD
TZOFFSETFROM:-0700
TZOFFSETTO:-0800
TZNAME:PST
DTSTART:20261101T090000
END:STANDARD
BEGIN:DAYLIGHT
TZOFFSETFROM:-0800
TZOFFSETTO:-0700
TZNAME:PDT
DTSTART:20270314T100000
END:DAYLIGHT
BEGIN:STANDARD
TZOFFSETFROM:-0700
TZOFFSETTO:-0800
TZNAME:PST
DTSTART:20271107T090000
END:STANDARD
END:VTIMEZONE
BEGIN:VEVENT
DTSTART;VALUE=DATE:20260410
DTEND;VALUE=DATE:20260415
DTSTAMP:20260421T164234
CREATED:20260113T212422Z
LAST-MODIFIED:20260218T180952Z
UID:10000899-1775779200-1776211199@collegesource.com
SUMMARY:2026 AACC Annual Conference
DESCRIPTION:Meet with CollegeSource at this event in Seattle\, Washington. We invite you to stop by our booth for product information or to just say hello.\nIf you would like us to set aside a specified time to meet with you at our booth\, reserve a time slot to chat. \n			\n				Visit conference website
URL:https://collegesource.com/event/2026-aacc-annual-conference/
LOCATION:Seattle Convention Center Summit Building\, Seattle\, WA\, United States
CATEGORIES:Conferences
ATTACH;FMTTYPE=image/jpeg:https://collegesource.com/wp-content/uploads/2026/01/AACC-Annual-Conference-Graphic-20.jpg
END:VEVENT
BEGIN:VEVENT
DTSTART;VALUE=DATE:20260413
DTEND;VALUE=DATE:20260416
DTSTAMP:20260421T164234
CREATED:20260323T193422Z
LAST-MODIFIED:20260323T193435Z
UID:10000954-1776038400-1776297599@collegesource.com
SUMMARY:2026 NETA Annual Conference
DESCRIPTION:Meet with CollegeSource at this event in Northampton\, Massachusetts. We invite you to stop by our booth for product information or to just say hello.\nIf you would like us to set aside a specified time to meet with you at our booth\, reserve a time slot to chat. \n			\n				Visit conference website
URL:https://collegesource.com/event/2026-neta-annual-conference/
LOCATION:The Hotel Northampton\, Northampton\, MA\, United States
CATEGORIES:Conferences
ATTACH;FMTTYPE=image/png:https://collegesource.com/wp-content/uploads/2024/04/NETA-2024-1.png
END:VEVENT
BEGIN:VEVENT
DTSTART;VALUE=DATE:20260419
DTEND;VALUE=DATE:20260423
DTSTAMP:20260421T164234
CREATED:20260113T204515Z
LAST-MODIFIED:20260218T180957Z
UID:10000900-1776556800-1776902399@collegesource.com
SUMMARY:2026 AACRAO Annual Meeting
DESCRIPTION:Meet with CollegeSource at this event in New Orleans\, Louisiana. We invite you to stop by our booth for product information or to just say hello.\nIf you would like us to set aside a specified time to meet with you at our booth\, reserve a time slot to chat. \n			\n				Visit conference website
URL:https://collegesource.com/event/2026-aacrao-annual-meeting/
LOCATION:New Orleans Ernest N. Morial Convention Center\, New Orleans\, LA\, United States
CATEGORIES:Conferences
ATTACH;FMTTYPE=image/png:https://collegesource.com/wp-content/uploads/2024/04/AACRAO-2024.png
END:VEVENT
BEGIN:VEVENT
DTSTART;VALUE=DATE:20260419
DTEND;VALUE=DATE:20260423
DTSTAMP:20260421T164234
CREATED:20260113T205500Z
LAST-MODIFIED:20260113T205511Z
UID:10000901-1776556800-1776902399@collegesource.com
SUMMARY:2026 Ellucian Live
DESCRIPTION:Meet with CollegeSource at this event in Denver\, Colorado. We invite you to stop by our booth for product information or to just say hello.\nIf you would like us to set aside a specified time to meet with you at our booth\, reserve a time slot to chat. \n			\n				Visit conference website
URL:https://collegesource.com/event/2026-ellucian-live/
LOCATION:Colorado Convention Center\, Denver\, CO\, United States
CATEGORIES:Conferences
ATTACH;FMTTYPE=image/png:https://collegesource.com/wp-content/uploads/2024/04/ELLUCIAN-2024.png
END:VEVENT
END:VCALENDAR