BEGIN:VCALENDAR
VERSION:2.0
PRODID:-//CollegeSource - ECPv6.15.20//NONSGML v1.0//EN
CALSCALE:GREGORIAN
METHOD:PUBLISH
X-WR-CALNAME:CollegeSource
X-ORIGINAL-URL:https://collegesource.com
X-WR-CALDESC:Events for CollegeSource
REFRESH-INTERVAL;VALUE=DURATION:PT1H
X-Robots-Tag:noindex
X-PUBLISHED-TTL:PT1H
BEGIN:VTIMEZONE
TZID:America/New_York
BEGIN:DAYLIGHT
TZOFFSETFROM:-0500
TZOFFSETTO:-0400
TZNAME:EDT
DTSTART:20250309T070000
END:DAYLIGHT
BEGIN:STANDARD
TZOFFSETFROM:-0400
TZOFFSETTO:-0500
TZNAME:EST
DTSTART:20251102T060000
END:STANDARD
BEGIN:DAYLIGHT
TZOFFSETFROM:-0500
TZOFFSETTO:-0400
TZNAME:EDT
DTSTART:20260308T070000
END:DAYLIGHT
BEGIN:STANDARD
TZOFFSETFROM:-0400
TZOFFSETTO:-0500
TZNAME:EST
DTSTART:20261101T060000
END:STANDARD
BEGIN:DAYLIGHT
TZOFFSETFROM:-0500
TZOFFSETTO:-0400
TZNAME:EDT
DTSTART:20270314T070000
END:DAYLIGHT
BEGIN:STANDARD
TZOFFSETFROM:-0400
TZOFFSETTO:-0500
TZNAME:EST
DTSTART:20271107T060000
END:STANDARD
END:VTIMEZONE
BEGIN:VEVENT
DTSTART;TZID=America/New_York:20261118T113000
DTEND;TZID=America/New_York:20261118T153000
DTSTAMP:20260421T230927
CREATED:20260112T213438Z
LAST-MODIFIED:20260114T224304Z
UID:10000895-1795001400-1795015800@collegesource.com
SUMMARY:uAchieve Encoding Advanced Topics: Calculating Required Electives Using Reference Values
DESCRIPTION:For details and registration for the Advanced Topics workshop on Calculating Required Electives Using Reference Values\, please select the button below. \n			\n				Learn more and register
URL:https://collegesource.com/event/uachieve-encoding-advanced-topics-calculating-required-electives-using-reference-values-nov-18-2026/
LOCATION:Online
CATEGORIES:Training courses,Virtual uAchieve Intermediate
ATTACH;FMTTYPE=image/png:https://collegesource.com/wp-content/uploads/2025/12/Tea-Green-uAchieve-Virtual-Workshop-Advanced-Topics-Graphic.png
END:VEVENT
END:VCALENDAR