BEGIN:VCALENDAR
VERSION:2.0
PRODID:-//CollegeSource - ECPv6.15.20//NONSGML v1.0//EN
CALSCALE:GREGORIAN
METHOD:PUBLISH
X-WR-CALNAME:CollegeSource
X-ORIGINAL-URL:https://collegesource.com
X-WR-CALDESC:Events for CollegeSource
REFRESH-INTERVAL;VALUE=DURATION:PT1H
X-Robots-Tag:noindex
X-PUBLISHED-TTL:PT1H
BEGIN:VTIMEZONE
TZID:America/Los_Angeles
BEGIN:DAYLIGHT
TZOFFSETFROM:-0800
TZOFFSETTO:-0700
TZNAME:PDT
DTSTART:20230312T100000
END:DAYLIGHT
BEGIN:STANDARD
TZOFFSETFROM:-0700
TZOFFSETTO:-0800
TZNAME:PST
DTSTART:20231105T090000
END:STANDARD
BEGIN:DAYLIGHT
TZOFFSETFROM:-0800
TZOFFSETTO:-0700
TZNAME:PDT
DTSTART:20240310T100000
END:DAYLIGHT
BEGIN:STANDARD
TZOFFSETFROM:-0700
TZOFFSETTO:-0800
TZNAME:PST
DTSTART:20241103T090000
END:STANDARD
BEGIN:DAYLIGHT
TZOFFSETFROM:-0800
TZOFFSETTO:-0700
TZNAME:PDT
DTSTART:20250309T100000
END:DAYLIGHT
BEGIN:STANDARD
TZOFFSETFROM:-0700
TZOFFSETTO:-0800
TZNAME:PST
DTSTART:20251102T090000
END:STANDARD
END:VTIMEZONE
BEGIN:VEVENT
DTSTART;VALUE=DATE:20241007
DTEND;VALUE=DATE:20241010
DTSTAMP:20260424T070024
CREATED:20240920T182635Z
LAST-MODIFIED:20240920T182643Z
UID:10000584-1728259200-1728518399@collegesource.com
SUMMARY:2024 GDN Annual Meeting
DESCRIPTION:Meet with CollegeSource at this event in San Diego\, California. We hope to see you to discuss product information or to just say hello.\nIf you would like us to set aside a specified time to meet with you at our booth\, reserve a time slot to chat. \n			\n				Visit conference website
URL:https://collegesource.com/event/2024-gdn-annual-meeting/
LOCATION:University of California San Diego Park & Market\, San Diego\, CA\, United States
CATEGORIES:Conferences
ATTACH;FMTTYPE=image/png:https://collegesource.com/wp-content/uploads/2024/09/GDN-1.png
END:VEVENT
END:VCALENDAR